BEGIN:VCALENDAR
VERSION:2.0
PRODID:-//La Dame du Premier - ECPv6.15.11//NONSGML v1.0//EN
CALSCALE:GREGORIAN
METHOD:PUBLISH
X-ORIGINAL-URL:https://ladamedupremier.com
X-WR-CALDESC:Évènements pour La Dame du Premier
REFRESH-INTERVAL;VALUE=DURATION:PT1H
X-Robots-Tag:noindex
X-PUBLISHED-TTL:PT1H
BEGIN:VTIMEZONE
TZID:Europe/Paris
BEGIN:DAYLIGHT
TZOFFSETFROM:+0100
TZOFFSETTO:+0200
TZNAME:CEST
DTSTART:20250330T010000
END:DAYLIGHT
BEGIN:STANDARD
TZOFFSETFROM:+0200
TZOFFSETTO:+0100
TZNAME:CET
DTSTART:20251026T010000
END:STANDARD
BEGIN:DAYLIGHT
TZOFFSETFROM:+0100
TZOFFSETTO:+0200
TZNAME:CEST
DTSTART:20260329T010000
END:DAYLIGHT
BEGIN:STANDARD
TZOFFSETFROM:+0200
TZOFFSETTO:+0100
TZNAME:CET
DTSTART:20261025T010000
END:STANDARD
BEGIN:DAYLIGHT
TZOFFSETFROM:+0100
TZOFFSETTO:+0200
TZNAME:CEST
DTSTART:20270328T010000
END:DAYLIGHT
BEGIN:STANDARD
TZOFFSETFROM:+0200
TZOFFSETTO:+0100
TZNAME:CET
DTSTART:20271031T010000
END:STANDARD
END:VTIMEZONE
BEGIN:VEVENT
DTSTART;TZID=Europe/Paris:20260504T100000
DTEND;TZID=Europe/Paris:20260504T170000
DTSTAMP:20260424T174246
CREATED:20260107T130503Z
LAST-MODIFIED:20260107T130503Z
UID:1092-1777888800-1777914000@ladamedupremier.com
SUMMARY:LUNDI EN COULISSES - MAGALI MOUGEL
DESCRIPTION:Chaque premier lundi du mois (d’octobre à juin de 10h à 17h)\, nous vous invitons à une journée entièrement consacrée à la lecture collective de textes de théâtre contemporains préalablement choisis par l’invité.e du mois. \nIl s’agit d’une journée de découvertes et d’échanges destinée aux professionnel.les et amateur.ices averti.es; bref\, à toute personne curieuse de l’écriture contemporaine. \n 
URL:https://ladamedupremier.com/event/lundi-en-coulisses-magali-mougel/
LOCATION:Théâtre Mansart\, 94 Bd Mansart\, dijon\, Sélectionner un État :\, 21000\, France
CATEGORIES:LUNDIS EN COULISSES
END:VEVENT
BEGIN:VEVENT
DTSTART;VALUE=DATE:20260512
DTEND;VALUE=DATE:20260514
DTSTAMP:20260424T174246
CREATED:20260107T131337Z
LAST-MODIFIED:20260107T131337Z
UID:1094-1778544000-1778716799@ladamedupremier.com
SUMMARY:MICHE ET DRATE - ANDREZIEUX BOUTHEON
DESCRIPTION:MICHE et DRATE sont 2 clowns métaphysiques\, sans âge ni sexe ; qui s’essaient à être et se posent des questions philosophiques avec poésie. \nDeux parties du cerveau qui dialoguent au bord du monde et qui\, pendant 20 courtes histoires\, s’interrogent sur leur place dans celui-ci. \nIls se confrontent alors à un monde trop complexe pour eux et découvrent la peur\, la joie\, l’amitié\, l’amour… \nEcrit par Gérald Chevrolet \nAvec Irène Chauve et Frédérique Moreau de Bellaing \nsous le regard de Margot Forissier \nmis en lumière par Julien Barbazin \nmis en son par Mathieu Mutin \nConstruit par Michel Mugnier \nCostumé par Sophie Deck
URL:https://ladamedupremier.com/event/miche-et-drate-andrezieux-boutheon/
LOCATION:Théâtre du Parc\, 9 avenue du parc\, Andrezieux Bouthéon\, 42160\, France
CATEGORIES:Miche et Drate
END:VEVENT
BEGIN:VEVENT
DTSTART;TZID=Europe/Paris:20260601T100000
DTEND;TZID=Europe/Paris:20260601T170000
DTSTAMP:20260424T174246
CREATED:20260107T131657Z
LAST-MODIFIED:20260107T131657Z
UID:1098-1780308000-1780333200@ladamedupremier.com
SUMMARY:LUNDI EN COULISSES - Editions Espaces 34
DESCRIPTION:Chaque premier lundi du mois (d’octobre à juin de 10h à 17h)\, nous vous invitons à une journée entièrement consacrée à la lecture collective de textes de théâtre contemporains préalablement choisis par l’invité.e du mois. \nIl s’agit d’une journée de découvertes et d’échanges destinée aux professionnel.les et amateur.ices averti.es; bref\, à toute personne curieuse de l’écriture contemporaine.
URL:https://ladamedupremier.com/event/lundi-en-coulisses-editions-espaces-34/
LOCATION:Théâtre de Beaune\, 64 rue de Lorraine\, 21200\, 21200\, France
CATEGORIES:LUNDIS EN COULISSES
END:VEVENT
END:VCALENDAR