BEGIN:VCALENDAR
VERSION:2.0
PRODID:-//La Dame du Premier - ECPv6.15.11//NONSGML v1.0//EN
CALSCALE:GREGORIAN
METHOD:PUBLISH
X-ORIGINAL-URL:https://ladamedupremier.com
X-WR-CALDESC:Évènements pour La Dame du Premier
REFRESH-INTERVAL;VALUE=DURATION:PT1H
X-Robots-Tag:noindex
X-PUBLISHED-TTL:PT1H
BEGIN:VTIMEZONE
TZID:Europe/Paris
BEGIN:DAYLIGHT
TZOFFSETFROM:+0100
TZOFFSETTO:+0200
TZNAME:CEST
DTSTART:20250330T010000
END:DAYLIGHT
BEGIN:STANDARD
TZOFFSETFROM:+0200
TZOFFSETTO:+0100
TZNAME:CET
DTSTART:20251026T010000
END:STANDARD
BEGIN:DAYLIGHT
TZOFFSETFROM:+0100
TZOFFSETTO:+0200
TZNAME:CEST
DTSTART:20260329T010000
END:DAYLIGHT
BEGIN:STANDARD
TZOFFSETFROM:+0200
TZOFFSETTO:+0100
TZNAME:CET
DTSTART:20261025T010000
END:STANDARD
BEGIN:DAYLIGHT
TZOFFSETFROM:+0100
TZOFFSETTO:+0200
TZNAME:CEST
DTSTART:20270328T010000
END:DAYLIGHT
BEGIN:STANDARD
TZOFFSETFROM:+0200
TZOFFSETTO:+0100
TZNAME:CET
DTSTART:20271031T010000
END:STANDARD
END:VTIMEZONE
BEGIN:VEVENT
DTSTART;TZID=Europe/Paris:20260601T100000
DTEND;TZID=Europe/Paris:20260601T170000
DTSTAMP:20260424T191115
CREATED:20260107T131657Z
LAST-MODIFIED:20260107T131657Z
UID:1098-1780308000-1780333200@ladamedupremier.com
SUMMARY:LUNDI EN COULISSES - Editions Espaces 34
DESCRIPTION:Chaque premier lundi du mois (d’octobre à juin de 10h à 17h)\, nous vous invitons à une journée entièrement consacrée à la lecture collective de textes de théâtre contemporains préalablement choisis par l’invité.e du mois. \nIl s’agit d’une journée de découvertes et d’échanges destinée aux professionnel.les et amateur.ices averti.es; bref\, à toute personne curieuse de l’écriture contemporaine.
URL:https://ladamedupremier.com/event/lundi-en-coulisses-editions-espaces-34/
LOCATION:Théâtre de Beaune\, 64 rue de Lorraine\, 21200\, 21200\, France
CATEGORIES:LUNDIS EN COULISSES
END:VEVENT
END:VCALENDAR